BEGIN:VCALENDAR
VERSION:2.0
PRODID:-//DEVEL SITE - The Clifton Institute - ECPv6.15.15//NONSGML v1.0//EN
CALSCALE:GREGORIAN
METHOD:PUBLISH
X-WR-CALNAME:DEVEL SITE - The Clifton Institute
X-ORIGINAL-URL:https://clifton-dev.rappland.net
X-WR-CALDESC:Events for DEVEL SITE - The Clifton Institute
REFRESH-INTERVAL;VALUE=DURATION:PT1H
X-Robots-Tag:noindex
X-PUBLISHED-TTL:PT1H
BEGIN:VTIMEZONE
TZID:America/New_York
BEGIN:DAYLIGHT
TZOFFSETFROM:-0500
TZOFFSETTO:-0400
TZNAME:EDT
DTSTART:20220313T070000
END:DAYLIGHT
BEGIN:STANDARD
TZOFFSETFROM:-0400
TZOFFSETTO:-0500
TZNAME:EST
DTSTART:20221106T060000
END:STANDARD
BEGIN:DAYLIGHT
TZOFFSETFROM:-0500
TZOFFSETTO:-0400
TZNAME:EDT
DTSTART:20230312T070000
END:DAYLIGHT
BEGIN:STANDARD
TZOFFSETFROM:-0400
TZOFFSETTO:-0500
TZNAME:EST
DTSTART:20231105T060000
END:STANDARD
BEGIN:DAYLIGHT
TZOFFSETFROM:-0500
TZOFFSETTO:-0400
TZNAME:EDT
DTSTART:20240310T070000
END:DAYLIGHT
BEGIN:STANDARD
TZOFFSETFROM:-0400
TZOFFSETTO:-0500
TZNAME:EST
DTSTART:20241103T060000
END:STANDARD
END:VTIMEZONE
BEGIN:VEVENT
DTSTART;TZID=America/New_York:20230401T140000
DTEND;TZID=America/New_York:20230401T170000
DTSTAMP:20260425T091809
CREATED:20230127T191422Z
LAST-MODIFIED:20230127T191422Z
UID:12645-1680357600-1680368400@clifton-dev.rappland.net
SUMMARY:Reading the Weather
DESCRIPTION:In this workshop\, the point is to have your head in the clouds. Spend the afternoon with Habitat Specialist Andrew Eberly learning about the behavior of Virginia’s spring atmosphere\, how to read models and forecasts\, and enjoy the simple pleasure of sitting back to watch the sky with a cold beverage (provided). This afternoon is intended to give participants the practical skills to understand weather maps and interpret the sky. \nCost:  $10 ($5 for Friends of the Clifton Institute) \nAge:  Adults and children ages 12 and up\, accompanied by an adult. \nWeather policy: Date and time subject to change dependent on weather. Please check your email for updates on the morning of the event. \nCOVID-19 Information: This program will be entirely outdoors (an outside porta potty will be available). Please do not attend if you are experiencing or have experienced in the last two weeks any symptoms associated with COVID-19 (fever\, cough\, shortness of breath\, etc.). \nRegistration is REQUIRED. \nCancellation policy: If you register and can no longer attend this event\, please let us know as soon as possible so that we can open your spot to someone else. No refunds will be given upon registrant cancellation. \nBy registering for this event\, you are affirming that you have read and agree to our liability release policy. \nWe look forward to seeing you at the Clifton Institute!
URL:https://clifton-dev.rappland.net/event/reading-the-weather/
LOCATION:The Clifton Institute\, 6712 Blantyre Road\, Warrenton\, VA\, 20187\, United States
CATEGORIES:Adult programs
ATTACH;FMTTYPE=image/png:https://clifton-dev.rappland.net/wp-content/uploads/2023/01/Reading-the-Weather.png
GEO:38.7751537;-77.7981971
X-APPLE-STRUCTURED-LOCATION;VALUE=URI;X-ADDRESS=The Clifton Institute 6712 Blantyre Road Warrenton VA 20187 United States;X-APPLE-RADIUS=500;X-TITLE=6712 Blantyre Road:geo:-77.7981971,38.7751537
END:VEVENT
BEGIN:VEVENT
DTSTART;TZID=America/New_York:20230408T130000
DTEND;TZID=America/New_York:20230408T150000
DTSTAMP:20260425T091809
CREATED:20230127T185849Z
LAST-MODIFIED:20230127T185849Z
UID:12635-1680958800-1680966000@clifton-dev.rappland.net
SUMMARY:Early Spring Wildflower Walk
DESCRIPTION:In early spring\, ephemeral wildflowers appear on the forest floor\, taking advantage of a brief moment of sunlight before the canopy above fills out with trees. Join us for a walk exploring our wooded trails in search of early spring ephemerals such as Bloodroot\, Cutleaf toothwort\, Rue-anemone\, and Skunk Cabbage. \nCost: Free! \nAge: Adults and children ages 12 and up\, accompanied by an adult. \nWeather policy: Date and time subject to change dependent on weather. Please check your email for updates on the morning of the event. \nCOVID-19 Information: This program will be entirely outdoors (an outside porta potty will be available). Please do not attend if you are experiencing or have experienced in the last two weeks any symptoms associated with COVID-19 (fever\, cough\, shortness of breath\, etc.). \nRegistration is REQUIRED. \nCancellation policy: If you register and can no longer attend this event\, please let us know as soon as possible so that we can open your spot to someone else. \nBy registering for this event\, you are affirming that you have read and agree to our liability release policy. \nWe look forward to seeing you at the Clifton Institute!
URL:https://clifton-dev.rappland.net/event/early-spring-wildflower-walk-2/
LOCATION:The Clifton Institute\, 6712 Blantyre Road\, Warrenton\, VA\, 20187\, United States
CATEGORIES:Adult programs
ATTACH;FMTTYPE=image/png:https://clifton-dev.rappland.net/wp-content/uploads/2023/01/Wildflower-Walk.png
GEO:38.7751537;-77.7981971
X-APPLE-STRUCTURED-LOCATION;VALUE=URI;X-ADDRESS=The Clifton Institute 6712 Blantyre Road Warrenton VA 20187 United States;X-APPLE-RADIUS=500;X-TITLE=6712 Blantyre Road:geo:-77.7981971,38.7751537
END:VEVENT
BEGIN:VEVENT
DTSTART;TZID=America/New_York:20230412T070000
DTEND;TZID=America/New_York:20230412T090000
DTSTAMP:20260425T091809
CREATED:20230112T210207Z
LAST-MODIFIED:20230119T170138Z
UID:12366-1681282800-1681290000@clifton-dev.rappland.net
SUMMARY:Bird Walk
DESCRIPTION:Cost: Free! \nAge: Adults and children 12 and up\, accompanied by an adult. \nWeather policy: Date and time subject to change dependent on weather. Please check your email for updates on the morning of the event. \nCOVID-19 Information: This program will be entirely outdoors (an outside porta potty will be available). Please do not attend if you are experiencing or have experienced in the last two weeks any symptoms associated with COVID-19 (fever\, cough\, shortness of breath\, etc.). \nRegistration is REQUIRED. \nCancellation policy: If you register and can no longer attend this event\, please let us know as soon as possible so that we can open your spot to someone else. \nBy registering for this event\, you are affirming that you have read and agree to our liability release policy. \nWe look forward to seeing you at the Clifton Institute!
URL:https://clifton-dev.rappland.net/event/bird-walk-37/
LOCATION:The Clifton Institute\, 6712 Blantyre Road\, Warrenton\, VA\, 20187\, United States
CATEGORIES:Adult programs
ATTACH;FMTTYPE=image/png:https://clifton-dev.rappland.net/wp-content/uploads/2021/09/monthly-bird-walks-2.5-1.png
GEO:38.7751537;-77.7981971
X-APPLE-STRUCTURED-LOCATION;VALUE=URI;X-ADDRESS=The Clifton Institute 6712 Blantyre Road Warrenton VA 20187 United States;X-APPLE-RADIUS=500;X-TITLE=6712 Blantyre Road:geo:-77.7981971,38.7751537
END:VEVENT
BEGIN:VEVENT
DTSTART;TZID=America/New_York:20230414T180000
DTEND;TZID=America/New_York:20230414T190000
DTSTAMP:20260425T091809
CREATED:20230127T190500Z
LAST-MODIFIED:20230414T172809Z
UID:12639-1681495200-1681498800@clifton-dev.rappland.net
SUMMARY:Warbler Song Bootcamp
DESCRIPTION:REGISTRATION CLOSED \n*This is a virtual event* \nBrush up on your warbler songs just before the migrants arrive in droves. We will listen to the songs of each of the migratory warblers that pass through our region in spring\, while looking at spectrograms to help visual learners identify differences in similar songs. We will also briefly discuss habitats where breeding warblers can be found in our area and cover a handful of other migrants such as vireos and thrushes. This workshop will be of interest to birdwatchers of all skill levels. It will definitely be more fun than listening to a warbler song CD in your car! This event will take place over Zoom. A Zoom link will be emailed to participants shortly before the event. \nCost: $10 ($5 for Friends of the Clifton Institute) \nAge: All ages. \nRegistration is REQUIRED. \nCancellation policy: If you register and can no longer attend this event\, please let us know as soon as possible so that we can open your spot to someone else. No refunds will be given upon registrant cancellation. \nBy registering for this event\, you are affirming that you have read and agree to our liability release policy. \nWe look forward to seeing you at the Clifton Institute! \n 
URL:https://clifton-dev.rappland.net/event/warbler-song-bootcamp/
LOCATION:The Clifton Institute\, 6712 Blantyre Road\, Warrenton\, VA\, 20187\, United States
CATEGORIES:Adult programs
ATTACH;FMTTYPE=image/png:https://clifton-dev.rappland.net/wp-content/uploads/2022/02/warbler-song-bootcamp.png
GEO:38.7751537;-77.7981971
X-APPLE-STRUCTURED-LOCATION;VALUE=URI;X-ADDRESS=The Clifton Institute 6712 Blantyre Road Warrenton VA 20187 United States;X-APPLE-RADIUS=500;X-TITLE=6712 Blantyre Road:geo:-77.7981971,38.7751537
END:VEVENT
BEGIN:VEVENT
DTSTART;TZID=America/New_York:20230415T130000
DTEND;TZID=America/New_York:20230415T150000
DTSTAMP:20260425T091809
CREATED:20230112T210755Z
LAST-MODIFIED:20230310T215323Z
UID:12372-1681563600-1681570800@clifton-dev.rappland.net
SUMMARY:Walk With A Naturalist
DESCRIPTION:Cost: Free! \nAge: Adults and children ages 12 and up\, accompanied by an adult. \nWeather policy: Date and time subject to change dependent on weather. Please check your email for updates on the morning of the event. \nCOVID-19 Information: This program will be entirely outdoors (an outside porta potty will be available). Please do not attend if you are experiencing or have experienced in the last two weeks any symptoms associated with COVID-19 (fever\, cough\, shortness of breath\, etc.). \nRegistration is REQUIRED. \nCancellation policy: If you register and can no longer attend this event\, please let us know as soon as possible so that we can open your spot to someone else. \nBy registering for this event\, you are affirming that you have read and agree to our liability release policy. \nWe look forward to seeing you at the Clifton Institute!
URL:https://clifton-dev.rappland.net/event/walk-with-a-naturalist-18/
LOCATION:The Clifton Institute\, 6712 Blantyre Road\, Warrenton\, VA\, 20187\, United States
CATEGORIES:Adult programs
ATTACH;FMTTYPE=image/png:https://clifton-dev.rappland.net/wp-content/uploads/2023/01/walk-with-a-naturalist-1.png
GEO:38.7751537;-77.7981971
X-APPLE-STRUCTURED-LOCATION;VALUE=URI;X-ADDRESS=The Clifton Institute 6712 Blantyre Road Warrenton VA 20187 United States;X-APPLE-RADIUS=500;X-TITLE=6712 Blantyre Road:geo:-77.7981971,38.7751537
END:VEVENT
BEGIN:VEVENT
DTSTART;TZID=America/New_York:20230422T070000
DTEND;TZID=America/New_York:20230422T090000
DTSTAMP:20260425T091809
CREATED:20230112T210454Z
LAST-MODIFIED:20230112T210454Z
UID:12369-1682146800-1682154000@clifton-dev.rappland.net
SUMMARY:Bird Walk
DESCRIPTION:Cost: Free! \nAge: Adults and children 12 and up\, accompanied by an adult. \nWeather policy: Date and time subject to change dependent on weather. Please check your email for updates on the morning of the event. \nCOVID-19 Information: This program will be entirely outdoors (an outside porta potty will be available). Please do not attend if you are experiencing or have experienced in the last two weeks any symptoms associated with COVID-19 (fever\, cough\, shortness of breath\, etc.). \nRegistration is REQUIRED. \nCancellation policy: If you register and can no longer attend this event\, please let us know as soon as possible so that we can open your spot to someone else. \nBy registering for this event\, you are affirming that you have read and agree to our liability release policy. \nWe look forward to seeing you at the Clifton Institute!
URL:https://clifton-dev.rappland.net/event/bird-walk-38/
LOCATION:The Clifton Institute\, 6712 Blantyre Road\, Warrenton\, VA\, 20187\, United States
CATEGORIES:Adult programs
ATTACH;FMTTYPE=image/png:https://clifton-dev.rappland.net/wp-content/uploads/2021/09/monthly-bird-walks-2.5-1.png
GEO:38.7751537;-77.7981971
X-APPLE-STRUCTURED-LOCATION;VALUE=URI;X-ADDRESS=The Clifton Institute 6712 Blantyre Road Warrenton VA 20187 United States;X-APPLE-RADIUS=500;X-TITLE=6712 Blantyre Road:geo:-77.7981971,38.7751537
END:VEVENT
BEGIN:VEVENT
DTSTART;TZID=America/New_York:20230422T100000
DTEND;TZID=America/New_York:20230422T120000
DTSTAMP:20260425T091809
CREATED:20230309T145007Z
LAST-MODIFIED:20230419T204448Z
UID:13128-1682157600-1682164800@clifton-dev.rappland.net
SUMMARY:Lichen Walk
DESCRIPTION:On this program Executive Director and amateur lichenologist Bert Harris will give a guided tour of some of his favorite lichen-y spots while explaining the basics of lichen biology and how to identify common species. This is a special opportunity to dive into this interesting and mysterious group and you never know\, we might find a species new to the property\, the county\, or even the state! \nCost: Free! \nAge: Adults and children accompanied by an adult. \nWeather policy: Rain or shine except in case of extreme weather (e.g. thunderstorm or significant snow fall). \nCOVID-19 Information: This program will be entirely outdoors (an outside porta potty will be available). Please do not attend if you are experiencing or have experienced in the last two weeks any symptoms associated with COVID-19 (fever\, cough\, shortness of breath\, etc.). \nRegistration is REQUIRED. \nCancellation policy: If you register and can no longer attend this event\, please let us know as soon as possible so that we can open your spot to someone else. \nBy registering for this event\, you are affirming that you have read and agree to our liability release policy. \nWe look forward to seeing you at the Clifton Institute!
URL:https://clifton-dev.rappland.net/event/lichen-walk/
LOCATION:The Clifton Institute\, 6712 Blantyre Road\, Warrenton\, VA\, 20187\, United States
CATEGORIES:Adult programs
ATTACH;FMTTYPE=image/png:https://clifton-dev.rappland.net/wp-content/uploads/2023/03/Lichen-Walk.png
GEO:38.7751537;-77.7981971
X-APPLE-STRUCTURED-LOCATION;VALUE=URI;X-ADDRESS=The Clifton Institute 6712 Blantyre Road Warrenton VA 20187 United States;X-APPLE-RADIUS=500;X-TITLE=6712 Blantyre Road:geo:-77.7981971,38.7751537
END:VEVENT
END:VCALENDAR