BEGIN:VCALENDAR
VERSION:2.0
PRODID:-//DEVEL SITE - The Clifton Institute - ECPv6.15.15//NONSGML v1.0//EN
CALSCALE:GREGORIAN
METHOD:PUBLISH
X-ORIGINAL-URL:https://clifton-dev.rappland.net
X-WR-CALDESC:Events for DEVEL SITE - The Clifton Institute
REFRESH-INTERVAL;VALUE=DURATION:PT1H
X-Robots-Tag:noindex
X-PUBLISHED-TTL:PT1H
BEGIN:VTIMEZONE
TZID:America/New_York
BEGIN:DAYLIGHT
TZOFFSETFROM:-0500
TZOFFSETTO:-0400
TZNAME:EDT
DTSTART:20240310T070000
END:DAYLIGHT
BEGIN:STANDARD
TZOFFSETFROM:-0400
TZOFFSETTO:-0500
TZNAME:EST
DTSTART:20241103T060000
END:STANDARD
BEGIN:DAYLIGHT
TZOFFSETFROM:-0500
TZOFFSETTO:-0400
TZNAME:EDT
DTSTART:20250309T070000
END:DAYLIGHT
BEGIN:STANDARD
TZOFFSETFROM:-0400
TZOFFSETTO:-0500
TZNAME:EST
DTSTART:20251102T060000
END:STANDARD
BEGIN:DAYLIGHT
TZOFFSETFROM:-0500
TZOFFSETTO:-0400
TZNAME:EDT
DTSTART:20260308T070000
END:DAYLIGHT
BEGIN:STANDARD
TZOFFSETFROM:-0400
TZOFFSETTO:-0500
TZNAME:EST
DTSTART:20261101T060000
END:STANDARD
END:VTIMEZONE
BEGIN:VEVENT
DTSTART;TZID=America/New_York:20250606T200000
DTEND;TZID=America/New_York:20250606T213000
DTSTAMP:20260420T075650
CREATED:20250319T203850Z
LAST-MODIFIED:20250319T203850Z
UID:20594-1749240000-1749245400@clifton-dev.rappland.net
SUMMARY:Firefly Watch
DESCRIPTION:We love going out on a summer evening to see hundreds of fireflies flashing in the trees and we’d love you to have you join us for this magical display. In this program\, Co-Director Eleanor Harris will give a brief talk about the biology and identification of fireflies (there are several species in our area!) and then we’ll go on a short walk in our fields to enjoy the show. \nCost: \nChildren 18 and under – Free \nAdults – $15 ($10 for Friends of Clifton.)  All proceeds from our programs go directly to funding our education programs\, restoration work\, and research projects. Thank you for your support! \nAge: Adults and children accompanied by an adult. \nBring: Please bring a flashlight \nWeather policy: Date and time subject to change dependent on weather. Please check your email for updates. \nRegistration is REQUIRED. \nCancellation policy: If you register and can no longer attend this event\, please let us know as soon as possible so that we can open your spot to someone else. \nBy registering for this event\, you are affirming that you have read and agree to our liability release policy. \nWe look forward to seeing you at the Clifton Institute!
URL:https://clifton-dev.rappland.net/event/firefly-watch-2/
LOCATION:The Clifton Institute\, 6712 Blantyre Road\, Warrenton\, VA\, 20187\, United States
CATEGORIES:Adult programs
ATTACH;FMTTYPE=image/png:https://clifton-dev.rappland.net/wp-content/uploads/2024/04/Firefly-Walk1.png
GEO:38.7751537;-77.7981971
X-APPLE-STRUCTURED-LOCATION;VALUE=URI;X-ADDRESS=The Clifton Institute 6712 Blantyre Road Warrenton VA 20187 United States;X-APPLE-RADIUS=500;X-TITLE=6712 Blantyre Road:geo:-77.7981971,38.7751537
END:VEVENT
BEGIN:VEVENT
DTSTART;TZID=America/New_York:20250611T070000
DTEND;TZID=America/New_York:20250611T090000
DTSTAMP:20260420T075650
CREATED:20250320T194047Z
LAST-MODIFIED:20250320T194047Z
UID:20605-1749625200-1749632400@clifton-dev.rappland.net
SUMMARY:Bird Walk
DESCRIPTION:Come join us to birdwatch around the field station! \nCost: Free! \nAge: Adults and children accompanied by an adult. \nWeather policy: Rain or shine except in case of extreme weather (e.g. thunderstorm or significant snow fall). \nCOVID-19 Information: This program will be entirely outdoors (an outside porta potty will be available). Please do not attend if you are experiencing or have experienced in the last two weeks any symptoms associated with COVID-19 (fever\, cough\, shortness of breath\, etc.). \nRegistration is REQUIRED. \nCancellation policy: If you register and can no longer attend this event\, please let us know as soon as possible so that we can open your spot to someone else. \nBy registering for this event\, you are affirming that you have read and agree to our liability release policy. \nWe look forward to seeing you at the Clifton Institute.
URL:https://clifton-dev.rappland.net/event/bird-walk-81/
LOCATION:The Clifton Institute\, 6712 Blantyre Road\, Warrenton\, VA\, 20187\, United States
CATEGORIES:Adult programs
ATTACH;FMTTYPE=image/png:https://clifton-dev.rappland.net/wp-content/uploads/2021/09/monthly-bird-walks-2.5-1.png
GEO:38.7751537;-77.7981971
X-APPLE-STRUCTURED-LOCATION;VALUE=URI;X-ADDRESS=The Clifton Institute 6712 Blantyre Road Warrenton VA 20187 United States;X-APPLE-RADIUS=500;X-TITLE=6712 Blantyre Road:geo:-77.7981971,38.7751537
END:VEVENT
BEGIN:VEVENT
DTSTART;TZID=America/New_York:20250614T100000
DTEND;TZID=America/New_York:20250614T160000
DTSTAMP:20260420T075650
CREATED:20250412T144703Z
LAST-MODIFIED:20250604T124416Z
UID:20991-1749895200-1749916800@clifton-dev.rappland.net
SUMMARY:Rappahannock Dragonfly Count
DESCRIPTION:Online registration is closed but you are still welcome to join us! Please email bharris@cliftoninstitute.org to learn more.\nJoin us for a day of counting dragonflies across Rappahannock county! Co-Director Bert Harris will be leading and organizing\, so keep an eye on your email for more information as the event gets closer! \nCost: Free! \nAge: Adults and children accompanied by an adult. \nWeather policy: Date and time subject to change dependent on weather. Please check your email for updates on the morning of the event. \nCancellation policy: If you register and can no longer attend this event\, please let us know as soon as possible so that we can open your spot to someone else. \nBy registering for this event\, you are affirming that you have read and agree to our liability release policy. \nWe look forward to seeing you!
URL:https://clifton-dev.rappland.net/event/rappahannock-dragonfly-count-2/
LOCATION:VA
CATEGORIES:Adult programs,Community science
ATTACH;FMTTYPE=image/png:https://clifton-dev.rappland.net/wp-content/uploads/2024/04/Rapp-dragonfly1.png
END:VEVENT
BEGIN:VEVENT
DTSTART;TZID=America/New_York:20250621T110000
DTEND;TZID=America/New_York:20250621T130000
DTSTAMP:20260420T075650
CREATED:20250320T200351Z
LAST-MODIFIED:20250617T150814Z
UID:20611-1750503600-1750510800@clifton-dev.rappland.net
SUMMARY:Dragonfly Identification Workshop
DESCRIPTION:Dragonflies and damselflies are some of the most mysterious and beautiful animals that live at the Clifton Institute\, and June is the perfect time to search for them. Join us for a workshop that will cover the basics of dragonfly identification and biology. We will then practice what we learned by visiting lakes\, streams\, and fish-free vernal pools\, each of which host distinct dragonfly communities. \nCost: \nChildren 18 and under – Free \nAdults – $15 ($10 for Friends of Clifton.)  All proceeds from our programs go directly to funding our education programs\, restoration work\, and research projects. Thank you for your support! \nAge: Adults and children accompanied by an adult. \nBring: Please bring binoculars if you have them. \nWeather policy: Date and time subject to change dependent on weather. Please check your email for updates on the morning of the event. \nRegistration is REQUIRED. \nCancellation policy: If you register and can no longer attend this event\, please let us know as soon as possible so that we can open your spot to someone else. \nBy registering for this event\, you are affirming that you have read and agree to our liability release policy. \nWe look forward to seeing you at the Clifton Institute!
URL:https://clifton-dev.rappland.net/event/dragonfly-identification-workshop-4/
LOCATION:The Clifton Institute\, 6712 Blantyre Road\, Warrenton\, VA\, 20187\, United States
CATEGORIES:Adult programs
ATTACH;FMTTYPE=image/png:https://clifton-dev.rappland.net/wp-content/uploads/2023/03/Dragonfly-Workshop.png
GEO:38.7751537;-77.7981971
X-APPLE-STRUCTURED-LOCATION;VALUE=URI;X-ADDRESS=The Clifton Institute 6712 Blantyre Road Warrenton VA 20187 United States;X-APPLE-RADIUS=500;X-TITLE=6712 Blantyre Road:geo:-77.7981971,38.7751537
END:VEVENT
BEGIN:VEVENT
DTSTART;TZID=America/New_York:20250622T100000
DTEND;TZID=America/New_York:20250622T160000
DTSTAMP:20260420T075650
CREATED:20250412T144934Z
LAST-MODIFIED:20250607T141013Z
UID:20995-1750586400-1750608000@clifton-dev.rappland.net
SUMMARY:Clifton Dragonfly Count 2025
DESCRIPTION:Online registration is closed but you are still welcome to join us! Please email bharris@cliftoninstitute.org to learn more.\nJoin us for our fifth annual Dragonfly Count! Our goals are to learn which species of dragonflies and damselflies are found in our area\, to monitor changes in their populations\, and to encourage everyone to learn more about Odonates. \nThe map of the count circle is here. The circle includes a wide variety of aquatic habitats\, including a sphagnum bog\, fish-free marshes\, lakes with abundant lily pads\, and a variety of clean streams and rivers that range from tiny seeps all the way up to the Rappahannock River. This interesting area has not received as much study as nearby northern Virginia\, but 72 species of dragonflies and damselflies have already been documented inside the circle. \nWe will divide the circle up into several areas\, which teams of people will cover\, similar to a Christmas Bird Count or NABA butterfly count. We will let you know where to meet closer to the date. The count is open to people of all experience levels. We welcome dragonfly experts as well as anyone who is interested in learning about these fascinating insects. \nThis event is free but registration is required. \nEmail Bert Harris (bharris@cliftoninstitute.org) with any questions or if you would like to lead one of the teams. Please let us know if you live inside the count circle and you have a fish-free pond or marsh or a pond with lily pads or other emergent aquatic vegetation on your property that you would like to be included in the count. \nWe are partnering with the Fauquier County Parks and Recreation Department\, Goose Creek Association\, Virginia Outdoors Foundation\, and White House Farm Foundation on this event. \nCost: Free! \nAge: Adults and children accompanied by an adult. \nBring: It will be hot and we’ll be spending time near or in the water. Shorts and sturdy sandals or rubber boots are usually best\, but long pants can come in handy as well. Please bring sunscreen\, sun hat\, binoculars (important)\, camera\, insect net\, and plenty of water. \nWeather policy: Date and time subject to change dependent on weather. Please check your email for updates on the morning of the event. \nCancellation policy: If you register and can no longer attend this event\, please let us know as soon as possible so that we can open your spot to someone else. \nBy registering for this event\, you are affirming that you have read and agree to our liability release policy. \nWe look forward to seeing you at the Clifton Institute!
URL:https://clifton-dev.rappland.net/event/clifton-dragonfly-count-2025/
LOCATION:VA
CATEGORIES:Adult programs,Community science
ATTACH;FMTTYPE=image/png:https://clifton-dev.rappland.net/wp-content/uploads/2024/04/Dragonfly-20231.png
END:VEVENT
BEGIN:VEVENT
DTSTART;TZID=America/New_York:20250626T180000
DTEND;TZID=America/New_York:20250626T193000
DTSTAMP:20260420T075650
CREATED:20250529T132019Z
LAST-MODIFIED:20250712T205523Z
UID:21304-1750960800-1750966200@clifton-dev.rappland.net
SUMMARY:How to iNaturalist
DESCRIPTION:In partnership with the Virginia Cooperative Extension Master Gardeners\, Co-director Bert Harris will explain what iNaturalist is and why it’s an essential tool. Then he’ll help get you started with the app! \n  \nRegistration is through MGFRC: https://www.mgfrc.org/events/twilight-talk-how-to-inaturalist-26
URL:https://clifton-dev.rappland.net/event/how-to-inaturalist-3/
LOCATION:Extension Office\, 42 Pelham Street\, Warrenton\, VA\, 20186\, United States
CATEGORIES:Adult programs
ATTACH;FMTTYPE=image/jpeg:https://clifton-dev.rappland.net/wp-content/uploads/2023/12/iNat.jpg
GEO:38.7141928;-77.7985713
X-APPLE-STRUCTURED-LOCATION;VALUE=URI;X-ADDRESS=Extension Office 42 Pelham Street Warrenton VA 20186 United States;X-APPLE-RADIUS=500;X-TITLE=42 Pelham Street:geo:-77.7985713,38.7141928
END:VEVENT
BEGIN:VEVENT
DTSTART;TZID=America/New_York:20250628T070000
DTEND;TZID=America/New_York:20250628T090000
DTSTAMP:20260420T075650
CREATED:20250320T200827Z
LAST-MODIFIED:20250320T200827Z
UID:20618-1751094000-1751101200@clifton-dev.rappland.net
SUMMARY:Bird Walk
DESCRIPTION:Come join us to birdwatch around the field station! \nCost: Free! \nAge: Adults and children accompanied by an adult. \nWeather policy: Rain or shine except in case of extreme weather (e.g. thunderstorm or significant snow fall). \nRegistration is REQUIRED. \nCancellation policy: If you register and can no longer attend this event\, please let us know as soon as possible so that we can open your spot to someone else. \nBy registering for this event\, you are affirming that you have read and agree to our liability release policy. \nWe look forward to seeing you at the Clifton Institute.
URL:https://clifton-dev.rappland.net/event/bird-walk-82/
LOCATION:The Clifton Institute\, 6712 Blantyre Road\, Warrenton\, VA\, 20187\, United States
CATEGORIES:Adult programs
ATTACH;FMTTYPE=image/png:https://clifton-dev.rappland.net/wp-content/uploads/2021/09/monthly-bird-walks-2.5-1.png
GEO:38.7751537;-77.7981971
X-APPLE-STRUCTURED-LOCATION;VALUE=URI;X-ADDRESS=The Clifton Institute 6712 Blantyre Road Warrenton VA 20187 United States;X-APPLE-RADIUS=500;X-TITLE=6712 Blantyre Road:geo:-77.7981971,38.7751537
END:VEVENT
END:VCALENDAR