BEGIN:VCALENDAR
VERSION:2.0
PRODID:-//DEVEL SITE - The Clifton Institute - ECPv6.15.15//NONSGML v1.0//EN
CALSCALE:GREGORIAN
METHOD:PUBLISH
X-ORIGINAL-URL:https://clifton-dev.rappland.net
X-WR-CALDESC:Events for DEVEL SITE - The Clifton Institute
REFRESH-INTERVAL;VALUE=DURATION:PT1H
X-Robots-Tag:noindex
X-PUBLISHED-TTL:PT1H
BEGIN:VTIMEZONE
TZID:America/New_York
BEGIN:DAYLIGHT
TZOFFSETFROM:-0500
TZOFFSETTO:-0400
TZNAME:EDT
DTSTART:20230312T070000
END:DAYLIGHT
BEGIN:STANDARD
TZOFFSETFROM:-0400
TZOFFSETTO:-0500
TZNAME:EST
DTSTART:20231105T060000
END:STANDARD
BEGIN:DAYLIGHT
TZOFFSETFROM:-0500
TZOFFSETTO:-0400
TZNAME:EDT
DTSTART:20240310T070000
END:DAYLIGHT
BEGIN:STANDARD
TZOFFSETFROM:-0400
TZOFFSETTO:-0500
TZNAME:EST
DTSTART:20241103T060000
END:STANDARD
BEGIN:DAYLIGHT
TZOFFSETFROM:-0500
TZOFFSETTO:-0400
TZNAME:EDT
DTSTART:20250309T070000
END:DAYLIGHT
BEGIN:STANDARD
TZOFFSETFROM:-0400
TZOFFSETTO:-0500
TZNAME:EST
DTSTART:20251102T060000
END:STANDARD
END:VTIMEZONE
BEGIN:VEVENT
DTSTART;TZID=America/New_York:20240509T100000
DTEND;TZID=America/New_York:20240509T233000
DTSTAMP:20260423T184151
CREATED:20230510T022201Z
LAST-MODIFIED:20230902T210147Z
UID:13708-1715248800-1715297400@clifton-dev.rappland.net
SUMMARY:Piedmont Polliwogs : 2023-24
DESCRIPTION:Piedmont Polliwogs is a monthly program for pre-K children that includes a lesson on a different topic every month\, story time and short nature walk.  Students get to know each other\, grow their independence\, and gain confidence in the outdoors with our skilled instructors.  The 9-month series will take place on the second Thursday of each month from 10 to 11:30 on the following dates: \nSeptember 14 \nOctober 12 \nNovember 9 \nDecember 14 \nJanuary 11 \nFebruary 8 \nMarch 14 \nApril 11 \nMay 9 \nWe understand that you may have children outside the 2-5-year-old range that need to come along with you to Polliwogs. You are welcome to keep them with you or for them to entertain themselves during the class. It is also fine with us if slightly older children participate. When you register below\, please register and pay for the number of children you expect to participate in the class each month. \nRegistration Notes: *If you are purchasing tickets for multiple students\, please write all of their names together in the same box\, i.e. “Sam\, Martie\, and Alex Bradshaw” when registering.  The form does not give you separate spaces to enter different names for each ticket.* \nCost: $90 per child ($75 for Friends of the Clifton Institute) \nAge: Children ages 2-5\, accompanied by a caregiver \nBring: Please bring a snack and drink. There will be a snack break. \nWeather policy: Rain or shine except in case of extreme weather (e.g. thunderstorm or significant snow fall). \nRegistration is REQUIRED. \nCancellation policy: If you register and can no longer attend this series\, please let us know as soon as possible so that we can open your spot to someone else. No refunds will be given upon registrant cancellation within 1 month of the program’s start date. No refunds will be given for any missed programs. \nBy registering for this event\, you are affirming that you have read and agree to our liability release policy. \nWe look forward to seeing you at the Clifton Institute!
URL:https://clifton-dev.rappland.net/event/piedmont-polliwogs-2023-24/2024-05-09/
LOCATION:The Clifton Institute\, 6712 Blantyre Road\, Warrenton\, VA\, 20187\, United States
CATEGORIES:Family programs,Youth programs
ATTACH;FMTTYPE=image/png:https://clifton-dev.rappland.net/wp-content/uploads/2023/05/Polliwogs-header.png
GEO:38.7751537;-77.7981971
X-APPLE-STRUCTURED-LOCATION;VALUE=URI;X-ADDRESS=The Clifton Institute 6712 Blantyre Road Warrenton VA 20187 United States;X-APPLE-RADIUS=500;X-TITLE=6712 Blantyre Road:geo:-77.7981971,38.7751537
END:VEVENT
BEGIN:VEVENT
DTSTART;TZID=America/New_York:20240511T100000
DTEND;TZID=America/New_York:20240511T120000
DTSTAMP:20260423T184151
CREATED:20240327T145116Z
LAST-MODIFIED:20240327T145116Z
UID:16894-1715421600-1715428800@clifton-dev.rappland.net
SUMMARY:Family Nature Walk
DESCRIPTION:Families with children in grades K-8 are invited to come along as we explore the field station. This program is a wonderful opportunity for families to explore nature together. We pick a different trail to explore each month and usually move slowly as we stop often to look at and learn about the plants and animals that live in Northern Virginia. \nCost: Free! \nAge: Families with children in grades K-8. \nWeather policy: Rain or shine except in case of extreme weather (e.g. thunderstorm or significant snow fall). \nCOVID-19 Information: This program will be entirely outdoors (an outside porta potty will be available). Please do not attend if you are experiencing or have experienced in the last two weeks any symptoms associated with COVID-19 (fever\, cough\, shortness of breath\, etc.). \nRegistration is REQUIRED. \nCancellation policy: If you register and can no longer attend this event\, please let us know as soon as possible so that we can open your spot to someone else. \nBy registering for this event\, you are affirming that you have read and agree to our liability release policy. \nWe look forward to seeing you at the Clifton Institute!
URL:https://clifton-dev.rappland.net/event/family-nature-walk-20/
LOCATION:The Clifton Institute\, 6712 Blantyre Road\, Warrenton\, VA\, 20187\, United States
CATEGORIES:Family programs
ATTACH;FMTTYPE=image/png:https://clifton-dev.rappland.net/wp-content/uploads/2021/09/family-nature-walks-2.5.png
GEO:38.7751537;-77.7981971
X-APPLE-STRUCTURED-LOCATION;VALUE=URI;X-ADDRESS=The Clifton Institute 6712 Blantyre Road Warrenton VA 20187 United States;X-APPLE-RADIUS=500;X-TITLE=6712 Blantyre Road:geo:-77.7981971,38.7751537
END:VEVENT
END:VCALENDAR