BEGIN:VCALENDAR
VERSION:2.0
PRODID:-//DEVEL SITE - The Clifton Institute - ECPv6.15.15//NONSGML v1.0//EN
CALSCALE:GREGORIAN
METHOD:PUBLISH
X-ORIGINAL-URL:https://clifton-dev.rappland.net
X-WR-CALDESC:Events for DEVEL SITE - The Clifton Institute
REFRESH-INTERVAL;VALUE=DURATION:PT1H
X-Robots-Tag:noindex
X-PUBLISHED-TTL:PT1H
BEGIN:VTIMEZONE
TZID:America/New_York
BEGIN:DAYLIGHT
TZOFFSETFROM:-0500
TZOFFSETTO:-0400
TZNAME:EDT
DTSTART:20250309T070000
END:DAYLIGHT
BEGIN:STANDARD
TZOFFSETFROM:-0400
TZOFFSETTO:-0500
TZNAME:EST
DTSTART:20251102T060000
END:STANDARD
BEGIN:DAYLIGHT
TZOFFSETFROM:-0500
TZOFFSETTO:-0400
TZNAME:EDT
DTSTART:20260308T070000
END:DAYLIGHT
BEGIN:STANDARD
TZOFFSETFROM:-0400
TZOFFSETTO:-0500
TZNAME:EST
DTSTART:20261101T060000
END:STANDARD
BEGIN:DAYLIGHT
TZOFFSETFROM:-0500
TZOFFSETTO:-0400
TZNAME:EDT
DTSTART:20270314T070000
END:DAYLIGHT
BEGIN:STANDARD
TZOFFSETFROM:-0400
TZOFFSETTO:-0500
TZNAME:EST
DTSTART:20271107T060000
END:STANDARD
END:VTIMEZONE
BEGIN:VEVENT
DTSTART;TZID=America/New_York:20260217T183000
DTEND;TZID=America/New_York:20260217T193000
DTSTAMP:20260422T121132
CREATED:20260106T211647Z
LAST-MODIFIED:20260106T212437Z
UID:22853-1771353000-1771356600@clifton-dev.rappland.net
SUMMARY:Education Volunteer Information Session *Virtual*
DESCRIPTION:***THIS IS A VIRTUAL EVENT*** \nThe Clifton Institute provides around 40 field trips per year to over 1\,200 pre-K-12th students from Fauquier County and beyond. During the field trips\, students learn about the natural history of the Northern Virginia piedmont and participate in some of our ongoing research projects\, such as our Native Grassland Restoration or Vernal Pool Monitoring! \nWe rely on an excellent team of volunteers to help run large field trips (sometimes 90 students at a time) alongside Clifton’s small education staff. This virtual program will be an introduction to Clifton’s educational mission\, an overview of what field trips look like\, and an opportunity for curious folks to hear about the volunteer positions available and ask questions. \nIf\, after the online session you feel like you’d be willing to help with our field trip program\, you can attend the in-person training on Wednesday\, February 18th. All volunteers hoping to help with the education programs must attend the in-person training. Returning volunteers from previous years are encouraged but not required to attend the in-person training and do not need to attend this virtual session. \nA Zoom link will be sent to registered participants the day of the event. \nCost: Free! \nAge: Adults only.
URL:https://clifton-dev.rappland.net/event/education-volunteer-information-session-virtual-2/
LOCATION:VA
CATEGORIES:Adult programs,Volunteer days
ATTACH;FMTTYPE=image/png:https://clifton-dev.rappland.net/wp-content/uploads/2026/01/ED-volunteer-info.png
END:VEVENT
END:VCALENDAR