BEGIN:VCALENDAR
VERSION:2.0
PRODID:-//DEVEL SITE - The Clifton Institute - ECPv6.15.15//NONSGML v1.0//EN
CALSCALE:GREGORIAN
METHOD:PUBLISH
X-WR-CALNAME:DEVEL SITE - The Clifton Institute
X-ORIGINAL-URL:https://clifton-dev.rappland.net
X-WR-CALDESC:Events for DEVEL SITE - The Clifton Institute
REFRESH-INTERVAL;VALUE=DURATION:PT1H
X-Robots-Tag:noindex
X-PUBLISHED-TTL:PT1H
BEGIN:VTIMEZONE
TZID:America/New_York
BEGIN:DAYLIGHT
TZOFFSETFROM:-0500
TZOFFSETTO:-0400
TZNAME:EDT
DTSTART:20230312T070000
END:DAYLIGHT
BEGIN:STANDARD
TZOFFSETFROM:-0400
TZOFFSETTO:-0500
TZNAME:EST
DTSTART:20231105T060000
END:STANDARD
BEGIN:DAYLIGHT
TZOFFSETFROM:-0500
TZOFFSETTO:-0400
TZNAME:EDT
DTSTART:20240310T070000
END:DAYLIGHT
BEGIN:STANDARD
TZOFFSETFROM:-0400
TZOFFSETTO:-0500
TZNAME:EST
DTSTART:20241103T060000
END:STANDARD
BEGIN:DAYLIGHT
TZOFFSETFROM:-0500
TZOFFSETTO:-0400
TZNAME:EDT
DTSTART:20250309T070000
END:DAYLIGHT
BEGIN:STANDARD
TZOFFSETFROM:-0400
TZOFFSETTO:-0500
TZNAME:EST
DTSTART:20251102T060000
END:STANDARD
END:VTIMEZONE
BEGIN:VEVENT
DTSTART;TZID=America/New_York:20240210T153000
DTEND;TZID=America/New_York:20240210T173000
DTSTAMP:20260423T204748
CREATED:20231220T170942Z
LAST-MODIFIED:20231220T170942Z
UID:15681-1707579000-1707586200@clifton-dev.rappland.net
SUMMARY:Nature Crafternoon
DESCRIPTION:Join us in the farmhouse for an afternoon making nature-inspired crafts\, just in time to make something for your valentines. We will provide instructions and materials for participants to make linocut prints. If you would like to bring your own materials or crafts to work on (knitting projects! whittling projects! Coloring books!) please do. We will also provide warm drinks and light snacks. \nCost: Free! \nAge: Adults only. \nBring: Any craft materials you wish to use besides what we provide for linocut prints. \nWeather policy: Rain or shine except in case of extreme weather (e.g. thunderstorm or significant snow fall). / Date and time subject to change dependent on weather. Please check your email for updates on the morning of the event. \nCOVID-19 Information: This program will include an indoor component. Proof of vaccination against COVID-19 will be required. Masks are encouraged and can be provided. By attending\, you are affirming that you are not experiencing nor have experienced in the last two weeks any symptoms associated with COVID-19 (fever\, cough\, shortness of breath\, etc.). \nRegistration is REQUIRED. \nCancellation policy: If you register and can no longer attend this event\, please let us know as soon as possible so that we can open your spot to someone else. \nBy registering for this event\, you are affirming that you have read and agree to our liability release policy. \nWe look forward to seeing you at the Clifton Institute!
URL:https://clifton-dev.rappland.net/event/nature-crafternoon/
LOCATION:The Clifton Institute\, 6712 Blantyre Road\, Warrenton\, VA\, 20187\, United States
CATEGORIES:Adult programs
ATTACH;FMTTYPE=image/png:https://clifton-dev.rappland.net/wp-content/uploads/2023/12/Copy-of-iNat.png
GEO:38.7751537;-77.7981971
X-APPLE-STRUCTURED-LOCATION;VALUE=URI;X-ADDRESS=The Clifton Institute 6712 Blantyre Road Warrenton VA 20187 United States;X-APPLE-RADIUS=500;X-TITLE=6712 Blantyre Road:geo:-77.7981971,38.7751537
END:VEVENT
END:VCALENDAR