BEGIN:VCALENDAR
VERSION:2.0
PRODID:-//DEVEL SITE - The Clifton Institute - ECPv6.15.15//NONSGML v1.0//EN
CALSCALE:GREGORIAN
METHOD:PUBLISH
X-ORIGINAL-URL:https://clifton-dev.rappland.net
X-WR-CALDESC:Events for DEVEL SITE - The Clifton Institute
REFRESH-INTERVAL;VALUE=DURATION:PT1H
X-Robots-Tag:noindex
X-PUBLISHED-TTL:PT1H
BEGIN:VTIMEZONE
TZID:America/New_York
BEGIN:DAYLIGHT
TZOFFSETFROM:-0500
TZOFFSETTO:-0400
TZNAME:EDT
DTSTART:20240310T070000
END:DAYLIGHT
BEGIN:STANDARD
TZOFFSETFROM:-0400
TZOFFSETTO:-0500
TZNAME:EST
DTSTART:20241103T060000
END:STANDARD
BEGIN:DAYLIGHT
TZOFFSETFROM:-0500
TZOFFSETTO:-0400
TZNAME:EDT
DTSTART:20250309T070000
END:DAYLIGHT
BEGIN:STANDARD
TZOFFSETFROM:-0400
TZOFFSETTO:-0500
TZNAME:EST
DTSTART:20251102T060000
END:STANDARD
BEGIN:DAYLIGHT
TZOFFSETFROM:-0500
TZOFFSETTO:-0400
TZNAME:EDT
DTSTART:20260308T070000
END:DAYLIGHT
BEGIN:STANDARD
TZOFFSETFROM:-0400
TZOFFSETTO:-0500
TZNAME:EST
DTSTART:20261101T060000
END:STANDARD
END:VTIMEZONE
BEGIN:VEVENT
DTSTART;TZID=America/New_York:20250614T100000
DTEND;TZID=America/New_York:20250614T160000
DTSTAMP:20260420T132154
CREATED:20250412T144703Z
LAST-MODIFIED:20250604T124416Z
UID:20991-1749895200-1749916800@clifton-dev.rappland.net
SUMMARY:Rappahannock Dragonfly Count
DESCRIPTION:Online registration is closed but you are still welcome to join us! Please email bharris@cliftoninstitute.org to learn more.\nJoin us for a day of counting dragonflies across Rappahannock county! Co-Director Bert Harris will be leading and organizing\, so keep an eye on your email for more information as the event gets closer! \nCost: Free! \nAge: Adults and children accompanied by an adult. \nWeather policy: Date and time subject to change dependent on weather. Please check your email for updates on the morning of the event. \nCancellation policy: If you register and can no longer attend this event\, please let us know as soon as possible so that we can open your spot to someone else. \nBy registering for this event\, you are affirming that you have read and agree to our liability release policy. \nWe look forward to seeing you!
URL:https://clifton-dev.rappland.net/event/rappahannock-dragonfly-count-2/
CATEGORIES:Adult programs,Community science
ATTACH;FMTTYPE=image/png:https://clifton-dev.rappland.net/wp-content/uploads/2024/04/Rapp-dragonfly1.png
END:VEVENT
END:VCALENDAR