BEGIN:VCALENDAR
VERSION:2.0
PRODID:-//DEVEL SITE - The Clifton Institute - ECPv6.15.15//NONSGML v1.0//EN
CALSCALE:GREGORIAN
METHOD:PUBLISH
X-WR-CALNAME:DEVEL SITE - The Clifton Institute
X-ORIGINAL-URL:https://clifton-dev.rappland.net
X-WR-CALDESC:Events for DEVEL SITE - The Clifton Institute
REFRESH-INTERVAL;VALUE=DURATION:PT1H
X-Robots-Tag:noindex
X-PUBLISHED-TTL:PT1H
BEGIN:VTIMEZONE
TZID:America/New_York
BEGIN:DAYLIGHT
TZOFFSETFROM:-0500
TZOFFSETTO:-0400
TZNAME:EDT
DTSTART:20250309T070000
END:DAYLIGHT
BEGIN:STANDARD
TZOFFSETFROM:-0400
TZOFFSETTO:-0500
TZNAME:EST
DTSTART:20251102T060000
END:STANDARD
BEGIN:DAYLIGHT
TZOFFSETFROM:-0500
TZOFFSETTO:-0400
TZNAME:EDT
DTSTART:20260308T070000
END:DAYLIGHT
BEGIN:STANDARD
TZOFFSETFROM:-0400
TZOFFSETTO:-0500
TZNAME:EST
DTSTART:20261101T060000
END:STANDARD
BEGIN:DAYLIGHT
TZOFFSETFROM:-0500
TZOFFSETTO:-0400
TZNAME:EDT
DTSTART:20270314T070000
END:DAYLIGHT
BEGIN:STANDARD
TZOFFSETFROM:-0400
TZOFFSETTO:-0500
TZNAME:EST
DTSTART:20271107T060000
END:STANDARD
END:VTIMEZONE
BEGIN:VEVENT
DTSTART;TZID=America/New_York:20260210T190000
DTEND;TZID=America/New_York:20260210T210000
DTSTAMP:20260423T100642
CREATED:20251014T200329Z
LAST-MODIFIED:20260210T163556Z
UID:22316-1770750000-1770757200@clifton-dev.rappland.net
SUMMARY:Spotted Salamander Walk **Date changed\, check your email if you registered**
DESCRIPTION:*The actual day of the walk is entirely dependent on the weather and will likely not be on Feb 10th! We use that as a placeholder date. We’ll be watching the weather closely to adjust our time and date that looks most promising for us to see this wonderful migration (above freezing and rainy). We will contact registered attendees when the weather looks good for a migration night .* \nOnce a year\, salamanders leave their homes in the woods and head toward vernal pools\, temporary ponds created by spring rains and melting winter snow. The conditions must be just right\, a warm night with rainy conditions. The males arrive first and lay sperm sacks around the pond. The females come later and absorb these sacks\, which causes them to lay their eggs\, about 50-100 per female. Join us on a walk to our vernal pools to witness this spectacle of nature. \nCost: FREE \nAge: Adults and children accompanied by an adult. \nPlease bring: A flashlight and waterproof boots. Dress for the weather. \nWeather policy: Date and time subject to change dependent on weather. Please check your email for updates on the morning of the event. \nRegistration is REQUIRED. \nCancellation policy: If you register and can no longer attend this event\, please let us know as soon as possible so that we can open your spot to someone else. Refunds not given for participant cancellation. Refunds will be given if Clifton cancels. \nBy registering for this event\, you are affirming that you have read and agree to our liability release policy. \nWe look forward to seeing you at the Clifton Institute!
URL:https://clifton-dev.rappland.net/event/spotted-salamander-walk-5/
LOCATION:The Clifton Institute\, 6712 Blantyre Road\, Warrenton\, VA\, 20187\, United States
CATEGORIES:Adult programs
ATTACH;FMTTYPE=image/png:https://clifton-dev.rappland.net/wp-content/uploads/2022/11/Spotted-Salamander-Walk-1-845x321-1.png
GEO:38.7751537;-77.7981971
X-APPLE-STRUCTURED-LOCATION;VALUE=URI;X-ADDRESS=The Clifton Institute 6712 Blantyre Road Warrenton VA 20187 United States;X-APPLE-RADIUS=500;X-TITLE=6712 Blantyre Road:geo:-77.7981971,38.7751537
END:VEVENT
END:VCALENDAR